BEGIN:VCALENDAR
VERSION:2.0
PRODID:-//Rudern im SC DHfK Leipzig e.V. - ECPv6.15.20//NONSGML v1.0//EN
CALSCALE:GREGORIAN
METHOD:PUBLISH
X-WR-CALNAME:Rudern im SC DHfK Leipzig e.V.
X-ORIGINAL-URL:https://scdhfk-rudern.de
X-WR-CALDESC:Veranstaltungen für Rudern im SC DHfK Leipzig e.V.
REFRESH-INTERVAL;VALUE=DURATION:PT1H
X-Robots-Tag:noindex
X-PUBLISHED-TTL:PT1H
BEGIN:VTIMEZONE
TZID:Europe/Berlin
BEGIN:DAYLIGHT
TZOFFSETFROM:+0100
TZOFFSETTO:+0200
TZNAME:CEST
DTSTART:20250330T010000
END:DAYLIGHT
BEGIN:STANDARD
TZOFFSETFROM:+0200
TZOFFSETTO:+0100
TZNAME:CET
DTSTART:20251026T010000
END:STANDARD
BEGIN:DAYLIGHT
TZOFFSETFROM:+0100
TZOFFSETTO:+0200
TZNAME:CEST
DTSTART:20260329T010000
END:DAYLIGHT
BEGIN:STANDARD
TZOFFSETFROM:+0200
TZOFFSETTO:+0100
TZNAME:CET
DTSTART:20261025T010000
END:STANDARD
BEGIN:DAYLIGHT
TZOFFSETFROM:+0100
TZOFFSETTO:+0200
TZNAME:CEST
DTSTART:20270328T010000
END:DAYLIGHT
BEGIN:STANDARD
TZOFFSETFROM:+0200
TZOFFSETTO:+0100
TZNAME:CET
DTSTART:20271031T010000
END:STANDARD
END:VTIMEZONE
BEGIN:VEVENT
DTSTART;VALUE=DATE:20260502
DTEND;VALUE=DATE:20260504
DTSTAMP:20260423T113129
CREATED:20260118T174159Z
LAST-MODIFIED:20260118T174159Z
UID:5971-1777680000-1777852799@scdhfk-rudern.de
SUMMARY:Bernburger Ruder-Regatta (TSP)
DESCRIPTION:
URL:https://scdhfk-rudern.de/veranstaltung/bernburger-ruder-regatta-tsp/
CATEGORIES:Termine
END:VEVENT
BEGIN:VEVENT
DTSTART;TZID=Europe/Berlin:20260504T183000
DTEND;TZID=Europe/Berlin:20260504T200000
DTSTAMP:20260423T113129
CREATED:20260115T142108Z
LAST-MODIFIED:20260115T142108Z
UID:5893-1777919400-1777924800@scdhfk-rudern.de
SUMMARY:AL-Sitzung
DESCRIPTION:
URL:https://scdhfk-rudern.de/veranstaltung/al-sitzung-4/
CATEGORIES:Termine
END:VEVENT
BEGIN:VEVENT
DTSTART;VALUE=DATE:20260509
DTEND;VALUE=DATE:20260511
DTSTAMP:20260423T113129
CREATED:20260118T174544Z
LAST-MODIFIED:20260118T174544Z
UID:5974-1778284800-1778457599@scdhfk-rudern.de
SUMMARY:Regatta Eilenburg (TSP\, LSP\, Masters)
DESCRIPTION:
URL:https://scdhfk-rudern.de/veranstaltung/regatta-eilenburg-tsp-lsp-masters/
CATEGORIES:Termine
END:VEVENT
BEGIN:VEVENT
DTSTART;VALUE=DATE:20260509
DTEND;VALUE=DATE:20260511
DTSTAMP:20260423T113129
CREATED:20260118T181212Z
LAST-MODIFIED:20260118T181400Z
UID:5993-1778284800-1778457599@scdhfk-rudern.de
SUMMARY:Internationale DRV-Junioren-Regatta München (LSP)
DESCRIPTION:
URL:https://scdhfk-rudern.de/veranstaltung/internationale-drv-junioren-regatta-muenchen/
CATEGORIES:Termine
END:VEVENT
BEGIN:VEVENT
DTSTART;TZID=Europe/Berlin:20260509T080000
DTEND;TZID=Europe/Berlin:20260510T170000
DTSTAMP:20260423T113129
CREATED:20260118T181533Z
LAST-MODIFIED:20260118T181533Z
UID:5997-1778313600-1778432400@scdhfk-rudern.de
SUMMARY:Internationale Mai-Regatta Gent U23 (LSP)
DESCRIPTION:
URL:https://scdhfk-rudern.de/veranstaltung/internationale-mai-regatta-gent-u23-lsp/
CATEGORIES:Termine
END:VEVENT
BEGIN:VEVENT
DTSTART;VALUE=DATE:20260516
DTEND;VALUE=DATE:20260518
DTSTAMP:20260423T113129
CREATED:20260115T145448Z
LAST-MODIFIED:20260118T190004Z
UID:5929-1778889600-1779062399@scdhfk-rudern.de
SUMMARY:Rüdersdorfer Regatta (TSP)
DESCRIPTION:
URL:https://scdhfk-rudern.de/veranstaltung/ruedersdorfer-regatta/
CATEGORIES:Termine
END:VEVENT
BEGIN:VEVENT
DTSTART;VALUE=DATE:20260523
DTEND;VALUE=DATE:20260525
DTSTAMP:20260423T113129
CREATED:20260118T182427Z
LAST-MODIFIED:20260118T182427Z
UID:5999-1779494400-1779667199@scdhfk-rudern.de
SUMMARY:European Rowing Under 19 Championship Brandenburg (LSP)
DESCRIPTION:
URL:https://scdhfk-rudern.de/veranstaltung/european-rowing-under-19-championship-brandenburg-lsp/
CATEGORIES:Termine
END:VEVENT
BEGIN:VEVENT
DTSTART;TZID=Europe/Berlin:20260530T100000
DTEND;TZID=Europe/Berlin:20260530T170000
DTSTAMP:20260423T113129
CREATED:20260410T195125Z
LAST-MODIFIED:20260410T195125Z
UID:6115-1780135200-1780160400@scdhfk-rudern.de
SUMMARY:Tag des offenen Bootshauses
DESCRIPTION:
URL:https://scdhfk-rudern.de/veranstaltung/tag-des-offenen-bootshauses-2/
LOCATION:Leipzig-Burghausen
CATEGORIES:Termine
END:VEVENT
BEGIN:VEVENT
DTSTART;VALUE=DATE:20260531
DTEND;VALUE=DATE:20260601
DTSTAMP:20260423T113129
CREATED:20260118T174654Z
LAST-MODIFIED:20260118T174654Z
UID:5976-1780185600-1780271999@scdhfk-rudern.de
SUMMARY:Lipsiade (TSP)
DESCRIPTION:
URL:https://scdhfk-rudern.de/veranstaltung/lipsiade-tsp/
CATEGORIES:Termine
END:VEVENT
END:VCALENDAR